BEGIN:VCALENDAR
VERSION:2.0
PRODID:-//Tukios.com/
BEGIN:VEVENT
UID:a1bdd576-2a68-4861-b994-8730c01454d2@www.whitting.com
DTSTAMP:20260421T021108Z
DTSTART:20260424
SUMMARY:Burial
DESCRIPTION:
URL:https://www.whitting.com/obituaries/anthony-jimenez
LOCATION: 117 Ryefield Road  Locust Valley NY 11560
GEO:40.8834661;-73.5880275
END:VEVENT
END:VCALENDAR