BEGIN:VCALENDAR
VERSION:2.0
PRODID:-//Tukios.com/
BEGIN:VEVENT
UID:15ec9bff-6b8f-4e3b-88c3-00685dd06439@www.whitting.com
DTSTAMP:20260421T021357Z
DTSTART:20260424T140000Z
DTEND:20260424T150000Z
SUMMARY:Mass
DESCRIPTION:
URL:https://www.whitting.com/obituaries/anthony-jimenez
LOCATION: 325 Lattingtown Rd  Locust Valley NY 11560
GEO:40.8889158;-73.6084467
END:VEVENT
END:VCALENDAR