BEGIN:VCALENDAR
VERSION:2.0
PRODID:-//Tukios.com/
BEGIN:VEVENT
UID:9a276e39-b7dd-473a-8f00-ef6e4cf6b1a8@www.whitting.com
DTSTAMP:20260421T020914Z
DTSTART:20260423T230000Z
DTEND:20260424T010000Z
SUMMARY:Visitation
DESCRIPTION:
URL:https://www.whitting.com/obituaries/anthony-jimenez
LOCATION: 300 Glen Cove Ave  Glen Head NY 11545
GEO:40.8444505;-73.6350049
END:VEVENT
END:VCALENDAR