BEGIN:VCALENDAR
VERSION:2.0
PRODID:-//Tukios.com/
BEGIN:VEVENT
UID:7116e3d1-0e80-461b-bd41-cdea4fab085c@www.whitting.com
DTSTAMP:20260421T021504Z
DTSTART:20260423T180000Z
DTEND:20260423T200000Z
SUMMARY:Visitation
DESCRIPTION:
URL:https://www.whitting.com/obituaries/anthony-jimenez
LOCATION: 300 Glen Cove Ave  Glen Head NY 11545
GEO:40.8444505;-73.6350049
END:VEVENT
END:VCALENDAR