BEGIN:VCALENDAR
VERSION:2.0
PRODID:-//Tukios.com/
BEGIN:VEVENT
UID:74c9a7e9-d709-4f80-a2ee-1c93bb2658d2@www.whitting.com
DTSTAMP:20260421T020559Z
DTSTART:20260422T230000Z
DTEND:20260423T010000Z
SUMMARY:Visitation
DESCRIPTION:
URL:https://www.whitting.com/obituaries/anthony-jimenez
LOCATION: 300 Glen Cove Ave  Glen Head NY 11545
GEO:40.8444505;-73.6350049
END:VEVENT
END:VCALENDAR