BEGIN:VCALENDAR
VERSION:2.0
PRODID:-//Tukios.com/
BEGIN:VEVENT
UID:41f22596-a9a0-4601-ac63-f45b79c94a73@www.whitting.com
DTSTAMP:20260421T020605Z
DTSTART:20260422T180000Z
DTEND:20260422T200000Z
SUMMARY:Visitation
DESCRIPTION:
URL:https://www.whitting.com/obituaries/anthony-jimenez
LOCATION: 300 Glen Cove Ave  Glen Head NY 11545
GEO:40.8444505;-73.6350049
END:VEVENT
END:VCALENDAR